BEGIN:VCALENDAR
VERSION:2.0
PRODID:-//ChamberMaster//Event Calendar 2.0//EN
METHOD:PUBLISH
X-PUBLISHED-TTL:P1H
REFRESH-INTERVAL:P1H
CALSCALE:GREGORIAN
BEGIN:VTIMEZONE
TZID:America/New_York
BEGIN:DAYLIGHT
RRULE:FREQ=YEARLY;BYMONTH=3;BYDAY=2SU
DTSTART:20070101T000000
TZOFFSETFROM:-0500
TZOFFSETTO:-0400
TZNAME:Eastern Daylight Time
END:DAYLIGHT
BEGIN:STANDARD
RRULE:FREQ=YEARLY;BYMONTH=11;BYDAY=1SU
DTSTART:20070101T000000
TZOFFSETFROM:-0400
TZOFFSETTO:-0500
TZNAME:Eastern Standard Time
END:STANDARD
END:VTIMEZONE
BEGIN:VEVENT
DTSTART;TZID=America/New_York:20260609T130000
DTEND;TZID=America/New_York:20260609T140000
X-MICROSOFT-CDO-ALLDAYEVENT:FALSE
SUMMARY:Orientation/Membership Overview for New and Interested Members (virtual)
DESCRIPTION:Join our Director of Membership and Community Engagement via Teams as we review programs\, benefits and resources available to nonprofit professionals as a member of Nonprofits First. Hear about our Education and Training courses\, Workshops and Panel Discussions\, Leadership Development\, Board Development and Governance programs\, CEO resources\, HR and Finance-specific programming\, and exclusive Member Networking Opportunities\, along with other member benefits\, like our Community Calendar\, Nonprofit Resource Library (with 100+ templates\, sample forms and manuals!)\, MyBoardPacket (free online board meeting portal)\, and a special appearance on the new 501cTV\, to name a few. If you're new to Nonprofits First\, or interested in knowing how membership in Nonprofits First would benefit you\, your team\, your board\, and your organization's impact\, this session is for you! (Note: Team invite will be sent out to registered attendees the day before the event via email).DID YOU KNOW...Nonprofits First is an official Candid partner\, and plays a vital role in providing our community the fundraising and nonprofit resources they need to do good. In addition to trainings and research tools\, we offer Candid's key tools including the Foundation Directory and GuideStar. We will cover this in more detail during the Membership Overview\, and are happy to answer questions or help you schedule an appointment to use the Foundation Directory by contacting info@nonprofitsfirst.org or calling 561-910-5069.
X-ALT-DESC;FMTTYPE=text/html:<!DOCTYPE html><html><head><title></title></head><body aria-disabled="false"><p>Join our Director of Membership and Community Engagement via Teams as we review programs\, benefits and resources available to nonprofit professionals as a member of Nonprofits First. Hear about our Education and Training courses\, Workshops and Panel Discussions\, Leadership Development\, Board Development and Governance programs\, CEO resources\, HR and Finance-specific programming\, and exclusive Member Networking Opportunities\, along with other member benefits\, like our Community Calendar\, Nonprofit Resource Library (with 100+ templates\, sample forms and manuals!)\, MyBoardPacket (free online board meeting portal)\, and a special appearance on the new 501cTV\, to name a few.&nbsp\;</p><p>If you&#39\;re new to Nonprofits First\, or interested in knowing how membership in Nonprofits First would benefit you\, your team\, your board\, and your organization&#39\;s impact\, this session is for you! (Note: Team invite will be sent out to registered attendees the day before the event via email).</p><p><strong fr-original-style="" style="font-weight: 700\;">DID YOU KNOW...</strong></p><p><span style="color: rgb(0\, 0\, 0)\; font-family: Arial\; font-size: medium\; font-style: normal\; font-variant-ligatures: normal\; font-variant-caps: normal\; font-weight: 400\; letter-spacing: normal\; orphans: 2\; text-align: start\; text-indent: 0px\; text-transform: none\; widows: 2\; word-spacing: 0px\; -webkit-text-stroke-width: 0px\; white-space: normal\; text-decoration-thickness: initial\; text-decoration-style: initial\; text-decoration-color: initial\; display: inline !important\; float: none\;">Nonprofits First is an official Candid partner\, and plays a vital role in providing our community the fundraising and nonprofit resources they need to do good. In addition to trainings and research tools\, we offer Candid&#39\;s key tools including the Foundation Directory and GuideStar. We will cover this in more detail during the Membership Overview\, and are happy to answer questions or help you schedule an appointment to use the Foundation Directory by contacting <a fr-original-style="" href="mailto:info@nonprofitsfirst.org" style="user-select: auto\; color: inherit\;">info@nonprofitsfirst.org</a> or calling 561-910-5069.</span></p><p><br></p></body></html>
LOCATION:
UID:e.3446.1446187
SEQUENCE:3
DTSTAMP:20260421T020203Z
URL:https://members.nonprofitsfirst.org/events/Details/orientation-membership-overview-for-new-and-interested-members-virtual-1712894?sourceTypeId=Hub
END:VEVENT
END:VCALENDAR
