BEGIN:VCALENDAR
VERSION:2.0
PRODID:-//ChamberMaster//Event Calendar 2.0//EN
METHOD:PUBLISH
X-PUBLISHED-TTL:P1H
REFRESH-INTERVAL:P1H
CALSCALE:GREGORIAN
BEGIN:VTIMEZONE
TZID:America/New_York
BEGIN:DAYLIGHT
RRULE:FREQ=YEARLY;BYMONTH=3;BYDAY=2SU
DTSTART:20070101T000000
TZOFFSETFROM:-0500
TZOFFSETTO:-0400
TZNAME:Eastern Daylight Time
END:DAYLIGHT
BEGIN:STANDARD
RRULE:FREQ=YEARLY;BYMONTH=11;BYDAY=1SU
DTSTART:20070101T000000
TZOFFSETFROM:-0400
TZOFFSETTO:-0500
TZNAME:Eastern Standard Time
END:STANDARD
END:VTIMEZONE
BEGIN:VEVENT
DTSTART;TZID=America/New_York:20260609T100000
DTEND;TZID=America/New_York:20260609T113000
X-MICROSOFT-CDO-ALLDAYEVENT:FALSE
SUMMARY:Exploring Media Options with the Palm Beach Post\, Palm Beach Daily News and LocaliQ
DESCRIPTION:Cutting Through the Noise: Why Year‑Round Visibility Matters for Nonprofits in Palm Beach CountySmart media\, storytelling\, and strategy to drive measurable impact when budgets matter\nWhat Attendees Will Learn- How today's donors\, sponsors\, and community leaders in Palm Beach County discover\, evaluate\, and decide which nonprofit missions to support in an increasingly noisy and competitive market\, and what that means for nonprofit outreach.- Why maintaining year‑round visibility beyond peak events and giving season is critical to building trust\, credibility\, and long‑term support\, along with practical ways nonprofits can stay present and relevant throughout their budget cycle.- How to align earned visibility\, owned content\, and paid marketing into one focused\, budget‑smart strategy that keeps missions visible year‑round and drives awareness\, donations\, and volunteer engagement.\nABOUT THE PRESENTERSJeanine McMahon is a Marketing Consultant with LocaliQ | USA TODAY Network Florida\, based in West Palm Beach. She partners closely with nonprofit and mission‑driven organizations to help them increase visibility\, engagement\, and community impact through thoughtful\, data‑driven digital marketing strategies.With more than 20 years of experience in media and marketing\, Jeanine has worked across print\, digital\, and multimedia platforms. She is known for her consultative\, solutions‑focused approach and her ability to help organizations navigate an evolving media landscape with practical strategies that align with their goals\, budgets\, and missions.Angelina Stewart is a Strategic Media Partner with LocaliQ and USA TODAY Co.\, specializing in brand visibility and revenue growth for mission‑driven\, community‑focused organizations. She helps nonprofits strengthen their message by aligning communication goals with how donors\, sponsors\, and community leaders discover\, evaluate\, and decide which causes to support.Angelina brings a consultative\, data‑driven approach\, translating complex insights into clear\, actionable strategies nonprofits can trust and apply with confidence. Her work focuses on building credibility\, smart audience targeting\, and sustained visibility\, helping organizations drive awareness\, engagement\, and community impact when budgets matter.
X-ALT-DESC;FMTTYPE=text/html:<!DOCTYPE html><html><head><title></title></head><body aria-disabled="false"><div data-ogsc="rgb(0\, 0\, 0)" style="border: 0px\; font-style: normal\; font-variant-ligatures: normal\; font-variant-caps: normal\; font-variant-numeric: inherit\; font-variant-east-asian: inherit\; font-variant-alternates: inherit\; font-variant-position: inherit\; font-variant-emoji: inherit\; font-weight: 400\; font-stretch: inherit\; font-size: 11pt\; line-height: inherit\; font-family: Calibri\, Helvetica\, sans-serif\; font-optical-sizing: inherit\; font-size-adjust: inherit\; font-kerning: inherit\; font-feature-settings: inherit\; font-variation-settings: inherit\; font-language-override: inherit\; margin: 0px\; padding: 0px\; vertical-align: baseline\; color: rgb(0\, 0\, 0) !important\; letter-spacing: normal\; orphans: 2\; text-align: start\; text-indent: 0px\; text-transform: none\; widows: 2\; word-spacing: 0px\; -webkit-text-stroke-width: 0px\; white-space: normal\; background-color: rgb(255\, 255\, 255)\; text-decoration-thickness: initial\; text-decoration-style: initial\; text-decoration-color: initial\;"><b data-ogsc="" data-olk-copy-source="MessageBody"><span style="font-family: Verdana\, Geneva\, sans-serif\; font-size: 18px\;">Cutting Through the Noise: Why Year‑Round Visibility Matters for Nonprofits in Palm Beach County</span></b></div><div data-ogsc="rgb(0\, 0\, 0)" style="border: 0px\; font-style: normal\; font-variant-ligatures: normal\; font-variant-caps: normal\; font-variant-numeric: inherit\; font-variant-east-asian: inherit\; font-variant-alternates: inherit\; font-variant-position: inherit\; font-variant-emoji: inherit\; font-weight: 400\; font-stretch: inherit\; font-size: 11pt\; line-height: inherit\; font-family: Calibri\, Helvetica\, sans-serif\; font-optical-sizing: inherit\; font-size-adjust: inherit\; font-kerning: inherit\; font-feature-settings: inherit\; font-variation-settings: inherit\; font-language-override: inherit\; margin: 0px\; padding: 0px\; vertical-align: baseline\; color: rgb(0\, 0\, 0) !important\; letter-spacing: normal\; orphans: 2\; text-align: start\; text-indent: 0px\; text-transform: none\; widows: 2\; word-spacing: 0px\; -webkit-text-stroke-width: 0px\; white-space: normal\; background-color: rgb(255\, 255\, 255)\; text-decoration-thickness: initial\; text-decoration-style: initial\; text-decoration-color: initial\; direction: ltr\;"><span style="font-size: 18px\;"><span style="font-family: Verdana\,Geneva\,sans-serif\;"><i data-ogsc="">Smart media\, storytelling\, and strategy to drive measurable impact when budgets matter</i></span></span></div><div data-ogsc="rgb(0\, 0\, 0)" style="border: 0px\; font-style: normal\; font-variant-ligatures: normal\; font-variant-caps: normal\; font-variant-numeric: inherit\; font-variant-east-asian: inherit\; font-variant-alternates: inherit\; font-variant-position: inherit\; font-variant-emoji: inherit\; font-weight: 400\; font-stretch: inherit\; font-size: 11pt\; line-height: inherit\; font-family: Calibri\, Helvetica\, sans-serif\; font-optical-sizing: inherit\; font-size-adjust: inherit\; font-kerning: inherit\; font-feature-settings: inherit\; font-variation-settings: inherit\; font-language-override: inherit\; margin: 0px\; padding: 0px\; vertical-align: baseline\; color: rgb(0\, 0\, 0) !important\; letter-spacing: normal\; orphans: 2\; text-align: start\; text-indent: 0px\; text-transform: none\; widows: 2\; word-spacing: 0px\; -webkit-text-stroke-width: 0px\; white-space: normal\; background-color: rgb(255\, 255\, 255)\; text-decoration-thickness: initial\; text-decoration-style: initial\; text-decoration-color: initial\; direction: ltr\;"><span style="font-size: 18px\;"><span style="font-family: Verdana\,Geneva\,sans-serif\;"><br></span></span></div><div data-ogsc="rgb(0\, 0\, 0)" style="border: 0px\; font-style: normal\; font-variant-ligatures: normal\; font-variant-caps: normal\; font-variant-numeric: inherit\; font-variant-east-asian: inherit\; font-variant-alternates: inherit\; font-variant-position: inherit\; font-variant-emoji: inherit\; font-weight: 400\; font-stretch: inherit\; font-size: 11pt\; line-height: inherit\; font-family: Calibri\, Helvetica\, sans-serif\; font-optical-sizing: inherit\; font-size-adjust: inherit\; font-kerning: inherit\; font-feature-settings: inherit\; font-variation-settings: inherit\; font-language-override: inherit\; margin: 0px\; padding: 0px\; vertical-align: baseline\; color: rgb(0\, 0\, 0) !important\; letter-spacing: normal\; orphans: 2\; text-align: start\; text-indent: 0px\; text-transform: none\; widows: 2\; word-spacing: 0px\; -webkit-text-stroke-width: 0px\; white-space: normal\; background-color: rgb(255\, 255\, 255)\; text-decoration-thickness: initial\; text-decoration-style: initial\; text-decoration-color: initial\; direction: ltr\;"><span style="font-size: 18px\;"><span style="font-family: Verdana\,Geneva\,sans-serif\;"><b data-ogsc="" data-olk-copy-source="MessageBody">What Attendees Will Learn</b></span></span></div><div data-ogsc="" style="border: 0px\; font: inherit\; margin-top: 0px\; margin-right: 0px\; margin-bottom: 0px\; padding: 0px\; vertical-align: baseline\; color: inherit\; direction: ltr\;"><span style="font-family: Verdana\,Geneva\,sans-serif\;"><span style="font-size: 18px\;">- How today&rsquo\;s donors\, sponsors\, and community leaders in Palm Beach County discover\, evaluate\, and decide which nonprofit missions to support in an increasingly noisy and competitive market\, and what that means for nonprofit outreach.</span></span></div><div data-ogsc="" style="border: 0px\; font: inherit\; margin-top: 0px\; margin-right: 0px\; margin-bottom: 0px\; padding: 0px\; vertical-align: baseline\; color: inherit\; direction: ltr\;"><span style="font-family: Verdana\,Geneva\,sans-serif\;"><span style="font-size: 18px\;">- Why maintaining year‑round visibility beyond peak events and giving season is critical to building trust\, credibility\, and long‑term support\, along with practical ways nonprofits can stay present and relevant throughout their budget cycle.</span></span></div><div data-ogsc="" style="border: 0px\; font: inherit\; margin-top: 0px\; margin-right: 0px\; margin-bottom: 0px\; padding: 0px\; vertical-align: baseline\; color: inherit\; direction: ltr\;"><span style="font-size: 18px\; font-family: Verdana\, Geneva\, sans-serif\;">- How to align earned visibility\, owned content\, and paid marketing into one focused\, budget‑smart strategy that keeps missions visible year‑round and drives awareness\, donations\, and volunteer engagement.</span></div><div data-ogsc="black" style='border: 0px\; font-style: normal\; font-variant-ligatures: normal\; font-variant-caps: normal\; font-variant-numeric: inherit\; font-variant-east-asian: inherit\; font-variant-alternates: inherit\; font-variant-position: inherit\; font-variant-emoji: inherit\; font-weight: 400\; font-stretch: inherit\; font-size: 15px\; line-height: inherit\; font-family: "Segoe UI"\, "Segoe UI Web (West European)"\, -apple-system\, BlinkMacSystemFont\, Roboto\, "Helvetica Neue"\, sans-serif\; font-optical-sizing: inherit\; font-size-adjust: inherit\; font-kerning: inherit\; font-feature-settings: inherit\; font-variation-settings: inherit\; font-language-override: inherit\; margin: 0px\; padding: 0px\; vertical-align: baseline\; color: black !important\; letter-spacing: normal\; orphans: 2\; text-align: start\; text-indent: 0px\; text-transform: none\; widows: 2\; word-spacing: 0px\; -webkit-text-stroke-width: 0px\; white-space: normal\; background-color: rgb(255\, 255\, 255)\; text-decoration-thickness: initial\; text-decoration-style: initial\; text-decoration-color: initial\;'><span style="font-size: 18px\;"><span style="font-family: Verdana\,Geneva\,sans-serif\;"><br></span></span></div><div data-ogsb="rgb(255\, 255\, 255)" data-ogsc="rgb(0\, 0\, 0)" style="border: 0px\; font-style: normal\; font-variant-ligatures: normal\; font-variant-caps: normal\; font-variant-numeric: inherit\; font-variant-east-asian: inherit\; font-variant-alternates: inherit\; font-variant-position: inherit\; font-variant-emoji: inherit\; font-weight: 400\; font-stretch: inherit\; font-size: 11pt\; line-height: 20px\; font-family: Calibri\, Helvetica\, sans-serif\; font-optical-sizing: inherit\; font-size-adjust: inherit\; font-kerning: inherit\; font-feature-settings: inherit\; font-variation-settings: inherit\; font-language-override: inherit\; margin: 1em 0px\; padding: 0px\; vertical-align: baseline\; color: rgb(0\, 0\, 0) !important\; letter-spacing: normal\; orphans: 2\; text-indent: 0px\; text-transform: none\; widows: 2\; word-spacing: 0px\; -webkit-text-stroke-width: 0px\; white-space: normal\; text-decoration-thickness: initial\; text-decoration-style: initial\; text-decoration-color: initial\; text-align: left\; background-color: rgb(255\, 255\, 255) !important\;"><span style="font-size: 18px\;"><span style="font-family: Verdana\,Geneva\,sans-serif\;"><strong fr-original-style="" style="font-weight: 700\;">ABOUT THE PRESENTERS</strong></span></span></div><div data-ogsc="black" style='border: 0px\; font-style: normal\; font-variant-ligatures: normal\; font-variant-caps: normal\; font-variant-numeric: inherit\; font-variant-east-asian: inherit\; font-variant-alternates: inherit\; font-variant-position: inherit\; font-variant-emoji: inherit\; font-weight: 400\; font-stretch: inherit\; font-size: 15px\; line-height: inherit\; font-family: "Segoe UI"\, "Segoe UI Web (West European)"\, -apple-system\, BlinkMacSystemFont\, Roboto\, "Helvetica Neue"\, sans-serif\; font-optical-sizing: inherit\; font-size-adjust: inherit\; font-kerning: inherit\; font-feature-settings: inherit\; font-variation-settings: inherit\; font-language-override: inherit\; margin: 0px\; padding: 0px\; vertical-align: baseline\; color: black !important\; letter-spacing: normal\; orphans: 2\; text-align: start\; text-indent: 0px\; text-transform: none\; widows: 2\; word-spacing: 0px\; -webkit-text-stroke-width: 0px\; white-space: normal\; background-color: rgb(255\, 255\, 255)\; text-decoration-thickness: initial\; text-decoration-style: initial\; text-decoration-color: initial\;'><span style="font-size: 18px\;"><span style="font-family: Verdana\,Geneva\,sans-serif\;"><strong fr-original-style="" style="font-weight: 700\;">Jeanine McMahon&nbsp\;</strong>is a Marketing Consultant with LocaliQ | USA TODAY Network Florida\, based in West Palm Beach. She <span data-ogsb="white" data-ogsc="" style="border: 0px\; font-style: inherit\; font-variant: inherit\; font-weight: inherit\; font-stretch: inherit\; line-height: inherit\; font-optical-sizing: inherit\; font-size-adjust: inherit\; font-kerning: inherit\; font-feature-settings: inherit\; font-variation-settings: inherit\; font-language-override: inherit\; margin: 0px\; padding: 0px\; vertical-align: baseline\; color: inherit\; background-color: white !important\;">partners&nbsp\;</span>closely with nonprofit and mission‑driven organizations to help them increase visibility\, engagement\, and community impact through thoughtful\, data‑driven digital marketing strategies.</span></span></div><p data-ogsb="white" style='margin-top: 1em\; margin-bottom: 1em\; color: rgb(0\, 0\, 0)\; font-family: "Segoe UI"\, "Segoe UI Web (West European)"\, -apple-system\, BlinkMacSystemFont\, Roboto\, "Helvetica Neue"\, sans-serif\; font-size: 15px\; font-style: normal\; font-variant-ligatures: normal\; font-variant-caps: normal\; font-weight: 400\; letter-spacing: normal\; orphans: 2\; text-indent: 0px\; text-transform: none\; widows: 2\; word-spacing: 0px\; -webkit-text-stroke-width: 0px\; white-space: normal\; text-decoration-thickness: initial\; text-decoration-style: initial\; text-decoration-color: initial\; text-align: left\; line-height: 15pt\; background-color: white !important\;'><span style="font-size: 18px\;"><span style="font-family: Verdana\,Geneva\,sans-serif\;"><span data-ogsb="white" data-ogsc="black" style="border: 0px\; font-style: inherit\; font-variant: inherit\; font-weight: inherit\; font-stretch: inherit\; line-height: inherit\; font-optical-sizing: inherit\; font-size-adjust: inherit\; font-kerning: inherit\; font-feature-settings: inherit\; font-variation-settings: inherit\; font-language-override: inherit\; margin: 0px\; padding: 0px\; vertical-align: baseline\; color: black !important\; background-color: white !important\;">With more than 20 years of experience in media and marketing\,&nbsp\;Jeanine&nbsp\;has worked across print\, digital\, and multimedia platforms. She is known for her consultative\, solutions‑focused approach and her ability to help organizations navigate an evolving media landscape with practical strategies that align with their goals\, budgets\, and missions.</span></span></span></p><div data-ogsc="rgb(0\, 0\, 0)" style="border: 0px\; font-style: normal\; font-variant-ligatures: normal\; font-variant-caps: normal\; font-variant-numeric: inherit\; font-variant-east-asian: inherit\; font-variant-alternates: inherit\; font-variant-position: inherit\; font-variant-emoji: inherit\; font-weight: 400\; font-stretch: inherit\; font-size: 12pt\; line-height: inherit\; font-family: Aptos\, Aptos_EmbeddedFont\, Aptos_MSFontService\, Calibri\, Helvetica\, sans-serif\; font-optical-sizing: inherit\; font-size-adjust: inherit\; font-kerning: inherit\; font-feature-settings: inherit\; font-variation-settings: inherit\; font-language-override: inherit\; margin: 0px\; padding: 0px\; vertical-align: baseline\; color: rgb(0\, 0\, 0) !important\; letter-spacing: normal\; orphans: 2\; text-align: start\; text-indent: 0px\; text-transform: none\; widows: 2\; word-spacing: 0px\; -webkit-text-stroke-width: 0px\; white-space: normal\; background-color: rgb(255\, 255\, 255)\; text-decoration-thickness: initial\; text-decoration-style: initial\; text-decoration-color: initial\;"><span style="font-size: 18px\;"><span style="font-family: Verdana\,Geneva\,sans-serif\;"><b data-ogsc="">Angelina Stewart</b> is a Strategic Media Partner with LocaliQ and USA TODAY Co.\, specializing in brand visibility and revenue growth for mission‑driven\, community‑focused organizations. She helps nonprofits strengthen their message by aligning communication goals with how donors\, sponsors\, and community leaders discover\, evaluate\, and decide which causes to support.</span></span></div><div data-ogsb="rgb(255\, 255\, 255)" data-ogsc="rgb(0\, 0\, 0)" style="border: 0px\; font-style: normal\; font-variant-ligatures: normal\; font-variant-caps: normal\; font-variant-numeric: inherit\; font-variant-east-asian: inherit\; font-variant-alternates: inherit\; font-variant-position: inherit\; font-variant-emoji: inherit\; font-weight: 400\; font-stretch: inherit\; font-size: 11pt\; line-height: 20px\; font-family: Calibri\, Helvetica\, sans-serif\; font-optical-sizing: inherit\; font-size-adjust: inherit\; font-kerning: inherit\; font-feature-settings: inherit\; font-variation-settings: inherit\; font-language-override: inherit\; margin: 1em 0px\; padding: 0px\; vertical-align: baseline\; color: rgb(0\, 0\, 0) !important\; letter-spacing: normal\; orphans: 2\; text-indent: 0px\; text-transform: none\; widows: 2\; word-spacing: 0px\; -webkit-text-stroke-width: 0px\; white-space: normal\; text-decoration-thickness: initial\; text-decoration-style: initial\; text-decoration-color: initial\; text-align: left\; background-color: rgb(255\, 255\, 255) !important\;"><span style="font-family: Verdana\, Geneva\, sans-serif\; font-size: 18px\;">Angelina brings a consultative\, data‑driven approach\, translating complex insights into clear\, actionable strategies nonprofits can trust and apply with confidence. Her work focuses on building credibility\, smart audience targeting\, and sustained visibility\, helping organizations drive awareness\, engagement\, and community impact when budgets matter.</span></div></body></html>
LOCATION:4411 Beacon Circle #4 West Palm Beach FL 33407
UID:e.3446.1437152
SEQUENCE:3
DTSTAMP:20260421T012830Z
URL:https://members.nonprofitsfirst.org/events/Details/exploring-media-options-with-the-palm-beach-post-palm-beach-daily-news-and-localiq-1701097?sourceTypeId=Hub
END:VEVENT
END:VCALENDAR
